{
 "currentVersion": 10.81,
 "serviceDescription": "Plantation Aerial imagery 2012",
 "mapName": "Layers",
 "description": "",
 "copyrightText": "Plantation Aerial imagery 2012",
 "supportsDynamicLayers": false,
 "layers": [
  {
   "id": 0,
   "name": "Aerial 2012",
   "parentLayerId": -1,
   "defaultVisibility": true,
   "subLayerIds": null,
   "minScale": 500000,
   "maxScale": 100,
   "type": "Raster Layer"
  }
 ],
 "tables": [],
 "spatialReference": {
  "wkid": 2881,
  "latestWkid": 2881
 },
 "singleFusedMapCache": true,
 "tileInfo": {
  "rows": 256,
  "cols": 256,
  "dpi": 96,
  "format": "MIXED",
  "compressionQuality": 75,
  "origin": {
   "x": -17791300,
   "y": 23981100
  },
  "spatialReference": {
   "wkid": 2881,
   "latestWkid": 2881
  },
  "lods": [
   {
    "level": 0,
    "resolution": 83.33333333333333,
    "scale": 96000
   },
   {
    "level": 1,
    "resolution": 62.5,
    "scale": 72000
   },
   {
    "level": 2,
    "resolution": 41.666666666666664,
    "scale": 48000
   },
   {
    "level": 3,
    "resolution": 31.25,
    "scale": 36000
   },
   {
    "level": 4,
    "resolution": 20.833333333333332,
    "scale": 24000
   },
   {
    "level": 5,
    "resolution": 10.416666666666666,
    "scale": 12000
   },
   {
    "level": 6,
    "resolution": 5.208333333333333,
    "scale": 6000
   },
   {
    "level": 7,
    "resolution": 3.125,
    "scale": 3600
   },
   {
    "level": 8,
    "resolution": 2.083333333333333,
    "scale": 2400
   },
   {
    "level": 9,
    "resolution": 1.0416666666666665,
    "scale": 1200
   },
   {
    "level": 10,
    "resolution": 0.625,
    "scale": 720
   },
   {
    "level": 11,
    "resolution": 0.41666666666666663,
    "scale": 480
   },
   {
    "level": 12,
    "resolution": 0.20833333333333331,
    "scale": 240
   }
  ]
 },
 "initialExtent": {
  "xmin": 873233.5181608591,
  "ymin": 647729.143804365,
  "xmax": 922227.0781608592,
  "ymax": 667034.5532083384,
  "spatialReference": {
   "wkid": 2881,
   "latestWkid": 2881
  }
 },
 "fullExtent": {
  "xmin": 875460.4981608592,
  "ymin": 639677.5464401267,
  "xmax": 920000.0981608592,
  "ymax": 665222.5464401267,
  "spatialReference": {
   "wkid": 2881,
   "latestWkid": 2881
  }
 },
 "minScale": 96000,
 "maxScale": 240,
 "units": "esriFeet",
 "supportedImageFormatTypes": "PNG32,PNG24,PNG,JPG,DIB,TIFF,EMF,PS,PDF,GIF,SVG,SVGZ,BMP",
 "documentInfo": {
  "Title": "",
  "Author": "",
  "Comments": "Plantation Aerial imagery 2012",
  "Subject": "Plantation Aerial imagery 2012",
  "Category": "",
  "AntialiasingMode": "None",
  "TextAntialiasingMode": "None",
  "Keywords": "Aerials,City of Plantation,2012"
 },
 "capabilities": "Map",
 "supportedQueryFormats": "JSON, geoJSON",
 "exportTilesAllowed": false,
 "referenceScale": 0,
 "datumTransformations": [
  {
   "geoTransforms": [
    {
     "wkid": 108001,
     "latestWkid": 1241,
     "transformForward": true,
     "name": "NAD_1927_To_NAD_1983_NADCON"
    }
   ]
  },
  {
   "geoTransforms": [
    {
     "wkid": 108001,
     "latestWkid": 1241,
     "transformForward": false,
     "name": "NAD_1927_To_NAD_1983_NADCON"
    }
   ]
  }
 ],
 "supportsDatumTransformation": true,
 "maxRecordCount": 1000,
 "maxImageHeight": 2048,
 "maxImageWidth": 2048,
 "supportedExtensions": ""
}
