{
 "currentVersion": 10.81,
 "cimVersion": "2.6.0",
 "serviceDescription": "",
 "mapName": "Aerial2023IR",
 "description": "",
 "copyrightText": "City of Plantation IT-GIS 2023",
 "supportsDynamicLayers": true,
 "layers": [
  {
   "id": 0,
   "name": "Aerial_2023_IR",
   "parentLayerId": -1,
   "defaultVisibility": true,
   "subLayerIds": null,
   "minScale": 0,
   "maxScale": 0,
   "type": "Raster Layer",
   "supportsDynamicLegends": true
  }
 ],
 "tables": [],
 "spatialReference": {
  "wkid": 2881,
  "latestWkid": 2881,
  "xyTolerance": 0.003280833333333333,
  "zTolerance": 0.001,
  "mTolerance": 0.001,
  "falseX": -17791300,
  "falseY": -41645400,
  "xyUnits": 3048.0060960121928,
  "falseZ": -100000,
  "zUnits": 10000,
  "falseM": -100000,
  "mUnits": 10000
 },
 "singleFusedMapCache": true,
 "tileInfo": {
  "rows": 256,
  "cols": 256,
  "dpi": 96,
  "format": "MIXED",
  "compressionQuality": 75,
  "origin": {
   "x": -17791300,
   "y": 23981100
  },
  "spatialReference": {
   "wkid": 2881,
   "latestWkid": 2881,
   "xyTolerance": 0.003280833333333333,
   "zTolerance": 0.001,
   "mTolerance": 0.001,
   "falseX": -17791300,
   "falseY": -41645400,
   "xyUnits": 3048.0060960121928,
   "falseZ": -100000,
   "zUnits": 10000,
   "falseM": -100000,
   "mUnits": 10000
  },
  "lods": [
   {
    "level": 0,
    "resolution": 83.33333333333333,
    "scale": 96000
   },
   {
    "level": 1,
    "resolution": 62.5,
    "scale": 72000
   },
   {
    "level": 2,
    "resolution": 41.666666666666664,
    "scale": 48000
   },
   {
    "level": 3,
    "resolution": 31.25,
    "scale": 36000
   },
   {
    "level": 4,
    "resolution": 20.833333333333332,
    "scale": 24000
   },
   {
    "level": 5,
    "resolution": 10.416666666666666,
    "scale": 12000
   },
   {
    "level": 6,
    "resolution": 5.208333333333333,
    "scale": 6000
   },
   {
    "level": 7,
    "resolution": 3.125,
    "scale": 3600
   },
   {
    "level": 8,
    "resolution": 2.083333333333333,
    "scale": 2400
   },
   {
    "level": 9,
    "resolution": 1.0416666666666665,
    "scale": 1200
   },
   {
    "level": 10,
    "resolution": 0.625,
    "scale": 720
   },
   {
    "level": 11,
    "resolution": 0.41666666666666663,
    "scale": 480
   },
   {
    "level": 12,
    "resolution": 0.20833333333333331,
    "scale": 240
   }
  ]
 },
 "initialExtent": {
  "xmin": 870374.5985741512,
  "ymin": 631833.9597764472,
  "xmax": 925166.6818439764,
  "ymax": 673058.895039174,
  "spatialReference": {
   "wkid": 2881,
   "latestWkid": 2881,
   "xyTolerance": 0.003280833333333333,
   "zTolerance": 0.001,
   "mTolerance": 0.001,
   "falseX": -17791300,
   "falseY": -41645400,
   "xyUnits": 3048.0060960121928,
   "falseZ": -100000,
   "zUnits": 10000,
   "falseM": -100000,
   "mUnits": 10000
  }
 },
 "fullExtent": {
  "xmin": 873024.3168339694,
  "ymin": 633864.4477736576,
  "xmax": 922536.7647094255,
  "ymax": 671038.5655070917,
  "spatialReference": {
   "wkid": 2881,
   "latestWkid": 2881,
   "xyTolerance": 0.003280833333333333,
   "zTolerance": 0.001,
   "mTolerance": 0.001,
   "falseX": -17791300,
   "falseY": -41645400,
   "xyUnits": 3048.0060960121928,
   "falseZ": -100000,
   "zUnits": 10000,
   "falseM": -100000,
   "mUnits": 10000
  }
 },
 "minScale": 96000,
 "maxScale": 240,
 "minLOD": 0,
 "maxLOD": 12,
 "units": "esriFeet",
 "supportedImageFormatTypes": "PNG32,PNG24,PNG,JPG,DIB,TIFF,EMF,PS,PDF,GIF,SVG,SVGZ,BMP",
 "documentInfo": {
  "Title": "Map",
  "Author": "",
  "Comments": "",
  "Subject": "",
  "Category": "",
  "AntialiasingMode": "Fast",
  "TextAntialiasingMode": "Force",
  "Keywords": "Aerial,2023,IR"
 },
 "supportsQueryDomains": true,
 "capabilities": "Map",
 "supportedQueryFormats": "JSON, geoJSON, PBF",
 "exportTilesAllowed": false,
 "referenceScale": 0.0,
 "datumTransformations": [
  {
   "geoTransforms": [
    {
     "wkid": 1900,
     "latestWkid": 1900,
     "transformForward": false,
     "name": "NAD_1983_HARN_To_WGS_1984_2"
    }
   ]
  },
  {
   "geoTransforms": [
    {
     "wkid": 1900,
     "latestWkid": 1900,
     "transformForward": true,
     "name": "NAD_1983_HARN_To_WGS_1984_2"
    }
   ]
  }
 ],
 "supportsDatumTransformation": true,
 "archivingInfo": {
  "supportsHistoricMoment": false
 },
 "supportsClipping": true,
 "supportsSpatialFilter": true,
 "supportsQueryDataElements": true,
 "maxRecordCount": 2000,
 "maxImageHeight": 4096,
 "maxImageWidth": 4096,
 "supportedExtensions": "",
 "resampling": false
}
