{
 "currentVersion": 10.81,
 "serviceDescription": "Raster/2ft_DEM_Mosaic",
 "name": "Raster/2ft_DEM_Mosaic",
 "description": "",
 "extent": {
  "xmin": 875439,
  "ymin": 639545,
  "xmax": 920095,
  "ymax": 665251,
  "spatialReference": {
   "wkid": 2881,
   "latestWkid": 2881
  }
 },
 "initialExtent": {
  "xmin": 875439,
  "ymin": 639545,
  "xmax": 920095,
  "ymax": 665251,
  "spatialReference": {
   "wkid": 2881,
   "latestWkid": 2881
  }
 },
 "fullExtent": {
  "xmin": 875439,
  "ymin": 639545,
  "xmax": 920095,
  "ymax": 665251,
  "spatialReference": {
   "wkid": 2881,
   "latestWkid": 2881
  }
 },
 "pixelSizeX": 2,
 "pixelSizeY": 2,
 "datasetFormat": "SDR",
 "uncompressedSize": 1147927136,
 "blockWidth": 128,
 "blockHeight": 128,
 "compressionType": "LZ77",
 "bandNames": [
  "Band_1"
 ],
 "allowCopy": true,
 "allowAnalysis": true,
 "bandCount": 1,
 "pixelType": "F32",
 "minPixelSize": 0,
 "maxPixelSize": 0,
 "copyrightText": "",
 "serviceDataType": "esriImageServiceDataTypeGeneric",
 "serviceSourceType": "esriImageServiceSourceTypeDataset",
 "minValues": [
  -2.609999895095825
 ],
 "maxValues": [
  48.54100036621094
 ],
 "meanValues": [
  6.332443446607662
 ],
 "stdvValues": [
  2.58165352458918
 ],
 "objectIdField": "",
 "fields": [],
 "capabilities": "Mensuration,Image,Metadata",
 "defaultMosaicMethod": "Center",
 "allowedMosaicMethods": "",
 "sortField": "",
 "sortValue": null,
 "sortAscending": true,
 "mosaicOperator": "First",
 "defaultCompressionQuality": 75,
 "defaultResamplingMethod": "Bilinear",
 "maxImageHeight": 4100,
 "maxImageWidth": 15000,
 "allowRasterFunction": true,
 "rasterFunctionInfos": [
  {
   "name": "None",
   "description": "",
   "help": ""
  }
 ],
 "rasterTypeInfos": [
  {
   "name": "Raster Dataset",
   "description": "Supports all ArcGIS Raster Datasets",
   "help": ""
  }
 ],
 "mensurationCapabilities": "Basic",
 "hasHistograms": true,
 "hasColormap": false,
 "hasRasterAttributeTable": false,
 "minScale": 0,
 "maxScale": 0,
 "exportTilesAllowed": false,
 "hasMultidimensions": false,
 "supportsStatistics": false,
 "supportsAdvancedQueries": false,
 "editFieldsInfo": null,
 "ownershipBasedAccessControlForRasters": null,
 "allowComputeTiePoints": false,
 "useStandardizedQueries": true,
 "advancedQueryCapabilities": {
  "useStandardizedQueries": true,
  "supportsStatistics": false,
  "supportsOrderBy": false,
  "supportsDistinct": false,
  "supportsPagination": false
 },
 "spatialReference": {
  "wkid": 2881,
  "latestWkid": 2881
 }
}
