{ "currentVersion": 10.81, "serviceDescription": "
This layer shows the inundation of the scenarios of the current king tidal flood event (2.57 feet) and the intermediate 2050 sea level rise flood event (1.1 feet). Flood depth results were generated using the Stormwise model developed as part of the City's Stormwater Master Plan.<\/span><\/p><\/div><\/div><\/div>",
"name": "Raster/EngVA_KTINT2050",
"description": " This layer shows the inundation of the scenarios of the current king tidal flood event (2.57 feet) and the intermediate 2050 sea level rise flood event (1.1 feet). Flood depth results were generated using the Stormwise model developed as part of the City's Stormwater Master Plan.<\/span><\/p><\/div><\/div><\/div>",
"extent": {
"xmin": 875960.6093139163,
"ymin": 640177.277475994,
"xmax": 919568.3427970764,
"ymax": 664723.371003714,
"spatialReference": {"wkt": "PROJCS[\"NAD_1983_HARN_StatePlane_Florida_East_FIPS_0901_Feet\",GEOGCS[\"GCS_North_American_1983_HARN\",DATUM[\"D_North_American_1983_HARN\",SPHEROID[\"GRS_1980\",6378137.0,298.257222101]],PRIMEM[\"Greenwich\",0.0],UNIT[\"Degree\",0.0174532925199433]],PROJECTION[\"Transverse_Mercator\"],PARAMETER[\"False_Easting\",656166.667],PARAMETER[\"False_Northing\",0.0],PARAMETER[\"Central_Meridian\",-81.0],PARAMETER[\"Scale_Factor\",0.999941177],PARAMETER[\"Latitude_Of_Origin\",24.3333333333333],UNIT[\"Foot_US\",0.3048006096012192]]"}
},
"initialExtent": {
"xmin": 875960.6093139163,
"ymin": 640177.277475994,
"xmax": 919568.3427970764,
"ymax": 664723.371003714,
"spatialReference": {"wkt": "PROJCS[\"NAD_1983_HARN_StatePlane_Florida_East_FIPS_0901_Feet\",GEOGCS[\"GCS_North_American_1983_HARN\",DATUM[\"D_North_American_1983_HARN\",SPHEROID[\"GRS_1980\",6378137.0,298.257222101]],PRIMEM[\"Greenwich\",0.0],UNIT[\"Degree\",0.0174532925199433]],PROJECTION[\"Transverse_Mercator\"],PARAMETER[\"False_Easting\",656166.667],PARAMETER[\"False_Northing\",0.0],PARAMETER[\"Central_Meridian\",-81.0],PARAMETER[\"Scale_Factor\",0.999941177],PARAMETER[\"Latitude_Of_Origin\",24.3333333333333],UNIT[\"Foot_US\",0.3048006096012192]]"}
},
"fullExtent": {
"xmin": 875960.6093139163,
"ymin": 640177.277475994,
"xmax": 919568.3427970764,
"ymax": 664723.371003714,
"spatialReference": {"wkt": "PROJCS[\"NAD_1983_HARN_StatePlane_Florida_East_FIPS_0901_Feet\",GEOGCS[\"GCS_North_American_1983_HARN\",DATUM[\"D_North_American_1983_HARN\",SPHEROID[\"GRS_1980\",6378137.0,298.257222101]],PRIMEM[\"Greenwich\",0.0],UNIT[\"Degree\",0.0174532925199433]],PROJECTION[\"Transverse_Mercator\"],PARAMETER[\"False_Easting\",656166.667],PARAMETER[\"False_Northing\",0.0],PARAMETER[\"Central_Meridian\",-81.0],PARAMETER[\"Scale_Factor\",0.999941177],PARAMETER[\"Latitude_Of_Origin\",24.3333333333333],UNIT[\"Foot_US\",0.3048006096012192]]"}
},
"pixelSizeX": 1.6435281906742603,
"pixelSizeY": 1.6435281906742603,
"datasetFormat": "SDR",
"uncompressedSize": 1585081420,
"blockWidth": 128,
"blockHeight": 128,
"compressionType": "LZ77",
"bandNames": [
"Band_1"
],
"allowCopy": true,
"allowAnalysis": true,
"bandCount": 1,
"pixelType": "F32",
"minPixelSize": 0,
"maxPixelSize": 0,
"copyrightText": "Contact Person: Samira Shalan; sshalan@plantation.orgCredits: Gisselle Gutierrez; gisselle.gutierrez@kimley-horn.com",
"serviceDataType": "esriImageServiceDataTypeGeneric",
"serviceSourceType": "esriImageServiceSourceTypeDataset",
"minValues": [
2.384185791015625E-7
],
"maxValues": [
6.956478595733643
],
"meanValues": [
1.9249371322561217
],
"stdvValues": [
1.0107774779869148
],
"objectIdField": "",
"fields": [],
"capabilities": "Mensuration,Image,Metadata",
"defaultMosaicMethod": "Center",
"allowedMosaicMethods": "",
"sortField": "",
"sortValue": null,
"sortAscending": true,
"mosaicOperator": "First",
"defaultCompressionQuality": 75,
"defaultResamplingMethod": "Bilinear",
"maxImageHeight": 4100,
"maxImageWidth": 15000,
"allowRasterFunction": true,
"rasterFunctionInfos": [
{
"name": "None",
"description": "",
"help": ""
}
],
"rasterTypeInfos": [
{
"name": "Raster Dataset",
"description": "Supports all ArcGIS Raster Datasets",
"help": ""
}
],
"mensurationCapabilities": "Basic",
"hasHistograms": true,
"hasColormap": false,
"hasRasterAttributeTable": false,
"minScale": 0,
"maxScale": 0,
"exportTilesAllowed": false,
"hasMultidimensions": false,
"supportsStatistics": false,
"supportsAdvancedQueries": false,
"editFieldsInfo": null,
"ownershipBasedAccessControlForRasters": null,
"allowComputeTiePoints": false,
"useStandardizedQueries": true,
"advancedQueryCapabilities": {
"useStandardizedQueries": true,
"supportsStatistics": false,
"supportsOrderBy": false,
"supportsDistinct": false,
"supportsPagination": false
},
"spatialReference": {"wkt": "PROJCS[\"NAD_1983_HARN_StatePlane_Florida_East_FIPS_0901_Feet\",GEOGCS[\"GCS_North_American_1983_HARN\",DATUM[\"D_North_American_1983_HARN\",SPHEROID[\"GRS_1980\",6378137.0,298.257222101]],PRIMEM[\"Greenwich\",0.0],UNIT[\"Degree\",0.0174532925199433]],PROJECTION[\"Transverse_Mercator\"],PARAMETER[\"False_Easting\",656166.667],PARAMETER[\"False_Northing\",0.0],PARAMETER[\"Central_Meridian\",-81.0],PARAMETER[\"Scale_Factor\",0.999941177],PARAMETER[\"Latitude_Of_Origin\",24.3333333333333],UNIT[\"Foot_US\",0.3048006096012192]]"}
}