{ "currentVersion": 10.81, "serviceDescription": "
This layer shows the inundation of the scenario of the 100-year 72-hour rainfall event in Plantation in existing (2025) conditions (18.3 inches of rainfall in a 3-day period), the current king tidal flood event (2.57 feet), and the intermediate 2050 sea level rise flood event (1.1 feet). Flood depth results were generated using the Stormwise model developed as part of the City's Stormwater Master Plan.<\/SPAN><\/P><\/DIV><\/DIV><\/DIV>",
"name": "Raster/EngVA_c100YRKTINT2050_Depth",
"description": " This layer shows the inundation of the scenario of the 100-year 72-hour rainfall event in Plantation in existing (2025) conditions (18.3 inches of rainfall in a 3-day period), the current king tidal flood event (2.57 feet), and the intermediate 2050 sea level rise flood event (1.1 feet). Flood depth results were generated using the Stormwise model developed as part of the City's Stormwater Master Plan.<\/SPAN><\/P><\/DIV><\/DIV><\/DIV>",
"extent": {
"xmin": 875960.6088642138,
"ymin": 640177.2771370447,
"xmax": 919568.342347374,
"ymax": 664723.3706647648,
"spatialReference": {"wkt": "PROJCS[\"NAD_1983_HARN_StatePlane_Florida_East_FIPS_0901_Feet\",GEOGCS[\"GCS_North_American_1983_HARN\",DATUM[\"D_North_American_1983_HARN\",SPHEROID[\"GRS_1980\",6378137.0,298.257222101]],PRIMEM[\"Greenwich\",0.0],UNIT[\"Degree\",0.0174532925199433]],PROJECTION[\"Transverse_Mercator\"],PARAMETER[\"False_Easting\",656166.667],PARAMETER[\"False_Northing\",0.0],PARAMETER[\"Central_Meridian\",-81.0],PARAMETER[\"Scale_Factor\",0.999941177],PARAMETER[\"Latitude_Of_Origin\",24.3333333333333],UNIT[\"Foot_US\",0.3048006096012192]]"}
},
"initialExtent": {
"xmin": 875960.6088642138,
"ymin": 640177.2771370447,
"xmax": 919568.342347374,
"ymax": 664723.3706647648,
"spatialReference": {"wkt": "PROJCS[\"NAD_1983_HARN_StatePlane_Florida_East_FIPS_0901_Feet\",GEOGCS[\"GCS_North_American_1983_HARN\",DATUM[\"D_North_American_1983_HARN\",SPHEROID[\"GRS_1980\",6378137.0,298.257222101]],PRIMEM[\"Greenwich\",0.0],UNIT[\"Degree\",0.0174532925199433]],PROJECTION[\"Transverse_Mercator\"],PARAMETER[\"False_Easting\",656166.667],PARAMETER[\"False_Northing\",0.0],PARAMETER[\"Central_Meridian\",-81.0],PARAMETER[\"Scale_Factor\",0.999941177],PARAMETER[\"Latitude_Of_Origin\",24.3333333333333],UNIT[\"Foot_US\",0.3048006096012192]]"}
},
"fullExtent": {
"xmin": 875960.6088642138,
"ymin": 640177.2771370447,
"xmax": 919568.342347374,
"ymax": 664723.3706647648,
"spatialReference": {"wkt": "PROJCS[\"NAD_1983_HARN_StatePlane_Florida_East_FIPS_0901_Feet\",GEOGCS[\"GCS_North_American_1983_HARN\",DATUM[\"D_North_American_1983_HARN\",SPHEROID[\"GRS_1980\",6378137.0,298.257222101]],PRIMEM[\"Greenwich\",0.0],UNIT[\"Degree\",0.0174532925199433]],PROJECTION[\"Transverse_Mercator\"],PARAMETER[\"False_Easting\",656166.667],PARAMETER[\"False_Northing\",0.0],PARAMETER[\"Central_Meridian\",-81.0],PARAMETER[\"Scale_Factor\",0.999941177],PARAMETER[\"Latitude_Of_Origin\",24.3333333333333],UNIT[\"Foot_US\",0.3048006096012192]]"}
},
"pixelSizeX": 1.6435281906742603,
"pixelSizeY": 1.6435281906742603,
"datasetFormat": "SDR",
"uncompressedSize": 1585081420,
"blockWidth": 128,
"blockHeight": 128,
"compressionType": "LZ77",
"bandNames": [
"Band_1"
],
"allowCopy": true,
"allowAnalysis": true,
"bandCount": 1,
"pixelType": "F32",
"minPixelSize": 0,
"maxPixelSize": 0,
"copyrightText": "Contact Person: Samira Shalan; sshalan@plantation.org\nCredits: Gisselle Gutierrez; gisselle.gutierrez@kimley-horn.com",
"serviceDataType": "esriImageServiceDataTypeGeneric",
"serviceSourceType": "esriImageServiceSourceTypeDataset",
"minValues": [
0
],
"maxValues": [
10.926478385925293
],
"meanValues": [
1.7891147759314656
],
"stdvValues": [
1.6384320548648181
],
"objectIdField": "",
"fields": [],
"capabilities": "Image,Metadata,Mensuration",
"defaultMosaicMethod": "Center",
"allowedMosaicMethods": "",
"sortField": "",
"sortValue": null,
"sortAscending": true,
"mosaicOperator": "First",
"defaultCompressionQuality": 75,
"defaultResamplingMethod": "Bilinear",
"maxImageHeight": 4100,
"maxImageWidth": 15000,
"allowRasterFunction": true,
"rasterFunctionInfos": [
{
"name": "None",
"description": "",
"help": ""
}
],
"rasterTypeInfos": [
{
"name": "Raster Dataset",
"description": "Supports all ArcGIS Raster Datasets",
"help": ""
}
],
"mensurationCapabilities": "Basic",
"hasHistograms": true,
"hasColormap": false,
"hasRasterAttributeTable": false,
"minScale": 0,
"maxScale": 0,
"exportTilesAllowed": false,
"hasMultidimensions": false,
"supportsStatistics": false,
"supportsAdvancedQueries": false,
"editFieldsInfo": null,
"ownershipBasedAccessControlForRasters": null,
"allowComputeTiePoints": false,
"useStandardizedQueries": true,
"advancedQueryCapabilities": {
"useStandardizedQueries": true,
"supportsStatistics": false,
"supportsOrderBy": false,
"supportsDistinct": false,
"supportsPagination": false
},
"spatialReference": {"wkt": "PROJCS[\"NAD_1983_HARN_StatePlane_Florida_East_FIPS_0901_Feet\",GEOGCS[\"GCS_North_American_1983_HARN\",DATUM[\"D_North_American_1983_HARN\",SPHEROID[\"GRS_1980\",6378137.0,298.257222101]],PRIMEM[\"Greenwich\",0.0],UNIT[\"Degree\",0.0174532925199433]],PROJECTION[\"Transverse_Mercator\"],PARAMETER[\"False_Easting\",656166.667],PARAMETER[\"False_Northing\",0.0],PARAMETER[\"Central_Meridian\",-81.0],PARAMETER[\"Scale_Factor\",0.999941177],PARAMETER[\"Latitude_Of_Origin\",24.3333333333333],UNIT[\"Foot_US\",0.3048006096012192]]"}
}