{ "currentVersion": 10.81, "serviceDescription": "
This layer shows how much sunlight each building in the City of Plantation receives. This is raster data.<\/SPAN><\/P> Created by CLI on Nov 21, 2023<\/SPAN><\/P><\/DIV><\/DIV><\/DIV>",
"name": "Raster/Solar_Radiation_Footprint",
"description": " This layer shows how much sunlight each building in the City of Plantation receives. This is raster data.<\/SPAN><\/P> Created by CLI on Nov 21, 2023<\/SPAN><\/P><\/DIV><\/DIV><\/DIV>",
"extent": {
"xmin": 875760.0325866211,
"ymin": 639726.1826981702,
"xmax": 919787.4343790046,
"ymax": 665190.8084008202,
"spatialReference": {
"wkid": 2881,
"latestWkid": 2881,
"vcsWkid": 105703,
"latestVcsWkid": 6360
}
},
"initialExtent": {
"xmin": 875760.0325866211,
"ymin": 639726.1826981702,
"xmax": 919787.4343790046,
"ymax": 665190.8084008202,
"spatialReference": {
"wkid": 2881,
"latestWkid": 2881,
"vcsWkid": 105703,
"latestVcsWkid": 6360
}
},
"fullExtent": {
"xmin": 875760.0325866211,
"ymin": 639726.1826981702,
"xmax": 919787.4343790046,
"ymax": 665190.8084008202,
"spatialReference": {
"wkid": 2881,
"latestWkid": 2881,
"vcsWkid": 105703,
"latestVcsWkid": 6360
}
},
"heightModelInfo": {
"heightModel": "gravity_related_height",
"vertCRS": "NAVD88_height_(ftUS)",
"heightUnit": "us-foot"
},
"pixelSizeX": 3.688004841044021,
"pixelSizeY": 3.7376523855350143,
"datasetFormat": "SDR",
"uncompressedSize": 325334376,
"blockWidth": 128,
"blockHeight": 128,
"compressionType": "NONE",
"bandNames": [
"Band_1"
],
"allowCopy": true,
"allowAnalysis": true,
"bandCount": 1,
"pixelType": "F32",
"minPixelSize": 0,
"maxPixelSize": 0,
"copyrightText": "",
"serviceDataType": "esriImageServiceDataTypeGeneric",
"serviceSourceType": "esriImageServiceSourceTypeDataset",
"minValues": [
6.9565815925598145
],
"maxValues": [
1767451.75
],
"meanValues": [
1233558.4386276188
],
"stdvValues": [
317159.3033496812
],
"objectIdField": "",
"fields": [],
"capabilities": "Image,Metadata,Mensuration",
"defaultMosaicMethod": "Center",
"allowedMosaicMethods": "",
"sortField": "",
"sortValue": null,
"sortAscending": true,
"mosaicOperator": "First",
"defaultCompressionQuality": 75,
"defaultResamplingMethod": "Bilinear",
"maxImageHeight": 4100,
"maxImageWidth": 15000,
"allowRasterFunction": true,
"rasterFunctionInfos": [
{
"name": "None",
"description": "",
"help": ""
}
],
"rasterTypeInfos": [
{
"name": "Raster Dataset",
"description": "Supports all ArcGIS Raster Datasets",
"help": ""
}
],
"mensurationCapabilities": "Basic",
"hasHistograms": true,
"hasColormap": false,
"hasRasterAttributeTable": false,
"minScale": 0,
"maxScale": 0,
"exportTilesAllowed": false,
"hasMultidimensions": false,
"supportsStatistics": false,
"supportsAdvancedQueries": false,
"editFieldsInfo": null,
"ownershipBasedAccessControlForRasters": null,
"allowComputeTiePoints": false,
"useStandardizedQueries": true,
"advancedQueryCapabilities": {
"useStandardizedQueries": true,
"supportsStatistics": false,
"supportsOrderBy": false,
"supportsDistinct": false,
"supportsPagination": false
},
"spatialReference": {
"wkid": 2881,
"latestWkid": 2881,
"vcsWkid": 105703,
"latestVcsWkid": 6360
}
}