View In:
ArcGIS JavaScript
ArcGIS Online Map Viewer
ArcGIS Earth
ArcMap
View Footprint In:
ArcGIS Online Map Viewer
Service Description: This layer shows the inundation of the scenario of the 500-year 72-hour rainfall event in Plantation in existing (2025) conditions (25.4 inches of rainfall in a 3-day period) with the proposed intermediate 2080 sea level rise flood event (2.34 feet). Flood depth results were generated using the Stormwise model developed as part of the City's Stormwater Master Plan.
Name: Raster/EngVA_r_500YRINT2080
Description: This layer shows the inundation of the scenario of the 500-year 72-hour rainfall event in Plantation in existing (2025) conditions (25.4 inches of rainfall in a 3-day period) with the proposed intermediate 2080 sea level rise flood event (2.34 feet). Flood depth results were generated using the Stormwise model developed as part of the City's Stormwater Master Plan.
Single Fused Map Cache: false
Extent:
XMin: 875960.6088642138
YMin: 640177.2771374075
XMax: 919568.6088642138
YMax: 664723.2771374075
Spatial Reference: PROJCS["NAD_1983_HARN_StatePlane_Florida_East_FIPS_0901_Feet",GEOGCS["GCS_North_American_1983_HARN",DATUM["D_North_American_1983_HARN",SPHEROID["GRS_1980",6378137.0,298.257222101]],PRIMEM["Greenwich",0.0],UNIT["Degree",0.0174532925199433]],PROJECTION["Transverse_Mercator"],PARAMETER["False_Easting",656166.667],PARAMETER["False_Northing",0.0],PARAMETER["Central_Meridian",-81.0],PARAMETER["Scale_Factor",0.999941177],PARAMETER["Latitude_Of_Origin",24.3333333333333],UNIT["Foot_US",0.3048006096012192]]
Initial Extent:
XMin: 875960.6088642138
YMin: 640177.2771374075
XMax: 919568.6088642138
YMax: 664723.2771374075
Spatial Reference: PROJCS["NAD_1983_HARN_StatePlane_Florida_East_FIPS_0901_Feet",GEOGCS["GCS_North_American_1983_HARN",DATUM["D_North_American_1983_HARN",SPHEROID["GRS_1980",6378137.0,298.257222101]],PRIMEM["Greenwich",0.0],UNIT["Degree",0.0174532925199433]],PROJECTION["Transverse_Mercator"],PARAMETER["False_Easting",656166.667],PARAMETER["False_Northing",0.0],PARAMETER["Central_Meridian",-81.0],PARAMETER["Scale_Factor",0.999941177],PARAMETER["Latitude_Of_Origin",24.3333333333333],UNIT["Foot_US",0.3048006096012192]]
Full Extent:
XMin: 875960.6088642138
YMin: 640177.2771374075
XMax: 919568.6088642138
YMax: 664723.2771374075
Spatial Reference: PROJCS["NAD_1983_HARN_StatePlane_Florida_East_FIPS_0901_Feet",GEOGCS["GCS_North_American_1983_HARN",DATUM["D_North_American_1983_HARN",SPHEROID["GRS_1980",6378137.0,298.257222101]],PRIMEM["Greenwich",0.0],UNIT["Degree",0.0174532925199433]],PROJECTION["Transverse_Mercator"],PARAMETER["False_Easting",656166.667],PARAMETER["False_Northing",0.0],PARAMETER["Central_Meridian",-81.0],PARAMETER["Scale_Factor",0.999941177],PARAMETER["Latitude_Of_Origin",24.3333333333333],UNIT["Foot_US",0.3048006096012192]]
Pixel Size X: 2.0
Pixel Size Y: 2.0
Band Count: 1
Pixel Type: F32
RasterFunction Infos: {"rasterFunctionInfos": [{
"name": "None",
"description": "",
"help": ""
}]}
Mensuration Capabilities: Basic
Has Histograms: true
Has Colormap: false
Has Multi Dimensions : false
Rendering Rule:
Min Scale: 0
Max Scale: 0
Copyright Text: Contact Person: Samira Shalan; sshalan@plantation.orgCredits: Gisselle Gutierrez; gisselle.gutierrez@kimley-horn.com
Service Data Type: esriImageServiceDataTypeGeneric
Min Values: 0
Max Values: 10.686478614807129
Mean Values: 1.7542685886855016
Standard Deviation Values: 1.619049982748099
Object ID Field:
Fields:
None
Default Mosaic Method: Center
Allowed Mosaic Methods:
SortField:
SortValue: null
Mosaic Operator: First
Default Compression Quality: 75
Default Resampling Method: Bilinear
Max Record Count: null
Max Image Height: 4100
Max Image Width: 15000
Max Download Image Count: null
Max Mosaic Image Count: null
Allow Raster Function: true
Allow Copy: true
Allow Analysis: true
Allow Compute TiePoints: false
Supports Statistics: false
Supports Advanced Queries: false
Use StandardizedQueries: true
Raster Type Infos:
Name: Raster Dataset
Description: Supports all ArcGIS Raster Datasets
Help:
Has Raster Attribute Table: false
Edit Fields Info: null
Ownership Based AccessControl For Rasters: null
Child Resources:
Info
Histograms
Statistics
Key Properties
Legend
Raster Function Infos
Supported Operations:
Export Image
Identify
Measure
Compute Histograms
Compute Statistics Histograms
Get Samples
Compute Class Statistics
Query Boundary
Compute Pixel Location
Validate
Project