View In:
ArcGIS JavaScript
ArcGIS Online Map Viewer
ArcGIS Earth
ArcMap
View Footprint In:
ArcGIS Online Map Viewer
Service Description: This layer shows how much sunlight each building in the City of Plantation receives. This is raster data.
Created by CLI on Nov 21, 2023
Name: Raster/Solar_Radiation_Footprint
Description: This layer shows how much sunlight each building in the City of Plantation receives. This is raster data.
Created by CLI on Nov 21, 2023
Single Fused Map Cache: false
Extent:
XMin: 875760.0325866211
YMin: 639726.1826981702
XMax: 919787.4343790046
YMax: 665190.8084008202
Spatial Reference: 2881
(2881)
VCSWkid(105703)
LatestVCSWkid(6360)
Initial Extent:
XMin: 875760.0325866211
YMin: 639726.1826981702
XMax: 919787.4343790046
YMax: 665190.8084008202
Spatial Reference: 2881
(2881)
VCSWkid(105703)
LatestVCSWkid(6360)
Full Extent:
XMin: 875760.0325866211
YMin: 639726.1826981702
XMax: 919787.4343790046
YMax: 665190.8084008202
Spatial Reference: 2881
(2881)
VCSWkid(105703)
LatestVCSWkid(6360)
Pixel Size X: 3.688004841044021
Pixel Size Y: 3.7376523855350143
Band Count: 1
Pixel Type: F32
RasterFunction Infos: {"rasterFunctionInfos": [{
"name": "None",
"description": "",
"help": ""
}]}
Mensuration Capabilities: Basic
Has Histograms: true
Has Colormap: false
Has Multi Dimensions : false
Rendering Rule:
Min Scale: 0
Max Scale: 0
Copyright Text:
Service Data Type: esriImageServiceDataTypeGeneric
Min Values: 6.9565815925598145
Max Values: 1767451.75
Mean Values: 1233558.4386276188
Standard Deviation Values: 317159.3033496812
Object ID Field:
Fields:
None
Default Mosaic Method: Center
Allowed Mosaic Methods:
SortField:
SortValue: null
Mosaic Operator: First
Default Compression Quality: 75
Default Resampling Method: Bilinear
Max Record Count: null
Max Image Height: 4100
Max Image Width: 15000
Max Download Image Count: null
Max Mosaic Image Count: null
Allow Raster Function: true
Allow Copy: true
Allow Analysis: true
Allow Compute TiePoints: false
Supports Statistics: false
Supports Advanced Queries: false
Use StandardizedQueries: true
Raster Type Infos:
Name: Raster Dataset
Description: Supports all ArcGIS Raster Datasets
Help:
Has Raster Attribute Table: false
Edit Fields Info: null
Ownership Based AccessControl For Rasters: null
Child Resources:
Info
Histograms
Statistics
Key Properties
Legend
Raster Function Infos
Supported Operations:
Export Image
Identify
Measure
Compute Histograms
Compute Statistics Histograms
Get Samples
Compute Class Statistics
Query Boundary
Compute Pixel Location
Validate
Project